BEGIN:VCALENDAR
VERSION:2.0
PRODID:-//Clubhaiser - ECPv5.1.5//NONSGML v1.0//EN
CALSCALE:GREGORIAN
METHOD:PUBLISH
X-WR-CALNAME:Clubhaiser
X-ORIGINAL-URL:https://clubhaiser.lu/fr/
X-WR-CALDESC:Évènements pour Clubhaiser
BEGIN:VTIMEZONE
TZID:Europe/Luxembourg
BEGIN:DAYLIGHT
TZOFFSETFROM:+0100
TZOFFSETTO:+0200
TZNAME:CEST
DTSTART:20210328T010000
END:DAYLIGHT
BEGIN:STANDARD
TZOFFSETFROM:+0200
TZOFFSETTO:+0100
TZNAME:CET
DTSTART:20211031T010000
END:STANDARD
END:VTIMEZONE
BEGIN:VEVENT
DTSTART;TZID=Europe/Luxembourg:20210420T093000
DTEND;TZID=Europe/Luxembourg:20210629T103000
DTSTAMP:20210426T010619
CREATED:20210317T124306Z
LAST-MODIFIED:20210317T124306Z
UID:9002-1618911000-1624962600@clubhaiser.lu
SUMMARY:Zumba® Gold  & Dancefitness
DESCRIPTION:Zumba® Gold ist eine Art Tanz-Fitness\, die leicht zu erlernen ist\, und die es Ihnen erlaubt\, sich in Ihrem Rhythmus zu bewegen. Die zertifizierte Trainerin Peggy Octave weist Sie mit einfachen Schrittfolgen ein und erklärt Ihnen alle Abfolgen. Gemeinsam mit Ihrer Gruppe verbringen Sie zu den Klängen fröhlicher\, lateinamerikanischer Musik eine dynamische und unterhaltsame Zeit. Mit diesem speziellen Tanz-Fitness-Programm können Sie sich ganz einfach fit halten – und daran auch noch Spaß haben! \nAchtung: Abhängig von den Schutzmaßnahmen gegen Covid-19 kann es sein\, dass der Kurs via Zoom organisiert wird. \n  \nZumba® Gold est une combinaison de danse et de fitness facile à apprendre et qui permet à chacun de participer à son rythme. Vos premiers pas seront guidés par notre chargée de cours certifiée Peggy Octave et ceci dans une ambiance conviviale animée par les rythmes d’Amérique latine. La Zumba®Gold vous aidera à rester en bonne forme tout en vous amusant. \nAttention : Suivant les mesures sanitaires contre le Covid-19\, le cours sera éventuellement organisé par Zoom. \n  \nTag/Jour: Dienstag/Mardi\nTermine/Dates: 20.04.\, 27.04.\, 04.05.\, 11.05.\, 18.05.\, 01.06.\, 08.06.\,15.06.\, 22.06.\, 29.06. \n(kein Kurs während den Schulferien/ pas de cours pendant les vacances scolaires)\nUhrzeit/Horaire: 09h30-10h30\nKurspreis/Prix du cours: 120€\nSie benötigen/ vous avez besoin de: Sportliche\, luftige Kleidung\, sportliche Schuhe\, ein Handtuch und genügend Wasser zum Trinken\, keine Umkleidekabinen verfügbar vêtements de sport légers\, baskets\, une serviette et de l‘eau\, des vestiaires ne sont pas disponibles \nBitte melden Sie sich per Telefon oder E-Mail im Treff an und überweisen Sie die Teilnahmegebühr auf unser Konto\, mit der Angabe der Veranstaltung.\nVeuillez-vous inscrire par téléphone ou e-mail et verser votre participation sur notre compte avec la mention de l’événement.\nTreff Aal Schoul LU67 0027 2101 6623 3600 BILLLULL \nTél.: 39 01 33 501 / E-mail: treff@habscht.lu \n
URL:https://clubhaiser.lu/fr/event/zumba-gold-dancefitness-2/
LOCATION:Treff Aal Schoul\, 33A\, Grand-Rue\, Hobscheid\, L-8372
CATEGORIES:Sport,Treff aal Schoul
ATTACH;FMTTYPE=image/jpeg:https://clubhaiser.lu/wp-content/uploads/2021/03/zumba-frau.jpg
ORGANIZER;CN="Treff%20Aal%20Schoul":MAILTO:treff@hobscheid.lu
GEO:49.687108;5.9132091
X-APPLE-STRUCTURED-LOCATION;VALUE=URI;X-ADDRESS=Treff Aal Schoul 33A Grand-Rue Hobscheid L-8372;X-APPLE-RADIUS=500;X-TITLE=33A\, Grand-Rue:geo:5.9132091,49.687108
END:VEVENT
END:VCALENDAR