BEGIN:VCALENDAR
VERSION:2.0
PRODID:-//Clubhaiser - ECPv5.1.5//NONSGML v1.0//EN
CALSCALE:GREGORIAN
METHOD:PUBLISH
X-WR-CALNAME:Clubhaiser
X-ORIGINAL-URL:https://clubhaiser.lu/fr/
X-WR-CALDESC:Évènements pour Clubhaiser
BEGIN:VTIMEZONE
TZID:Europe/Luxembourg
BEGIN:DAYLIGHT
TZOFFSETFROM:+0100
TZOFFSETTO:+0200
TZNAME:CEST
DTSTART:20210328T010000
END:DAYLIGHT
BEGIN:STANDARD
TZOFFSETFROM:+0200
TZOFFSETTO:+0100
TZNAME:CET
DTSTART:20211031T010000
END:STANDARD
END:VTIMEZONE
BEGIN:VEVENT
DTSTART;TZID=Europe/Luxembourg:20211012T093000
DTEND;TZID=Europe/Luxembourg:20211012T103000
DTSTAMP:20211011T142958
CREATED:20201130T141546Z
LAST-MODIFIED:20210730T092630Z
UID:10108-1634031000-1634034600@clubhaiser.lu
SUMMARY:Vini Yoga        mit Electra Chifari
DESCRIPTION:Der Name Vini Yoga bedeutet\, dass die Übungen und die Konzepte des Yogaunterrichts immer an die Gruppe und an einzelne Teilnehmer angepasst werden. Qualität steht vor Quantität. Therapeutisch ausgerichtete Übungssequenzen werden immer an den Einschränkungen\, Möglichkeiten und den Ressourcen der Übenden orientiert. Durch einen sinnvollen und wirksamen Aufbau der Übungssequenzen\, sowie durch ein Angebot alternativer Übungen\, werden die Stunden den Besonderheiten jedes einzelnen Teilnehmers angepasst. \nMitzubringen sind: Gymnastikmatte\, Decke und Yoga-Blöcke\, wenn vorhanden \nSprachen: Deutsch/Lëtzebuergesch \nAnmeldung: per Telefon 30 00 01 oder Email  clubsenior@mamer.lu \nNach Erhalt der Anmeldungsbestätigung\, überweisen Sie bitte den Beitrag mit dem Vermerk der Aktivität auf das Konto  BGL Lu49 0030 3218 9179 0000 des Club Haus Am Brill \n
URL:https://clubhaiser.lu/fr/event/vini-yoga-mit-electra-chifari-2/2021-10-12/
LOCATION:Centre Culturel Capellen\, 51\, Rte d'Arlon\, Capellen\, 8310\, Luxemburg
CATEGORIES:Am Brill,Clubhouse,Santé,Sport
ATTACH;FMTTYPE=image/jpeg:https://clubhaiser.lu/wp-content/uploads/2020/11/Vini-Yoga-e1606833942465.jpg
ORGANIZER;CN="Am%20Brill":MAILTO:clubsenior@mamer.lu
GEO:49.6450705;5.9875855
X-APPLE-STRUCTURED-LOCATION;VALUE=URI;X-ADDRESS=Centre Culturel Capellen 51 Rte d'Arlon Capellen 8310 Luxemburg;X-APPLE-RADIUS=500;X-TITLE=51\, Rte d'Arlon:geo:5.9875855,49.6450705
END:VEVENT
END:VCALENDAR