BEGIN:VCALENDAR
VERSION:2.0
PRODID:-//Clubhaiser - ECPv5.1.5//NONSGML v1.0//EN
CALSCALE:GREGORIAN
METHOD:PUBLISH
X-WR-CALNAME:Clubhaiser
X-ORIGINAL-URL:https://clubhaiser.lu/fr/
X-WR-CALDESC:Évènements pour Clubhaiser
BEGIN:VTIMEZONE
TZID:Europe/Luxembourg
BEGIN:DAYLIGHT
TZOFFSETFROM:+0100
TZOFFSETTO:+0200
TZNAME:CEST
DTSTART:20210328T010000
END:DAYLIGHT
BEGIN:STANDARD
TZOFFSETFROM:+0200
TZOFFSETTO:+0100
TZNAME:CET
DTSTART:20211031T010000
END:STANDARD
END:VTIMEZONE
BEGIN:VEVENT
DTSTART;TZID=Europe/Luxembourg:20210419T103000
DTEND;TZID=Europe/Luxembourg:20210712T113000
DTSTAMP:20210426T010545
CREATED:20210318T102441Z
LAST-MODIFIED:20210318T102441Z
UID:9041-1618828200-1626089400@clubhaiser.lu
SUMMARY:Tai Chi (Taiji)
DESCRIPTION:Im Zuge der allgemeinen Verbreitung asiatischer Kampfsportarten im Westen interessieren sich auch immer mehr Menschen für Qi Gong und Taiji (Tai Chi).\nDie meisten praktizieren Tai Chi aus gesundheitlichen Gründen\, zur Entspannung oder zur Meditation. Dies teilweise motiviert durch Berichte über die positiven Auswirkungen auf die Gesundheit – gerade bei chronischen Beschwerden.\nMenschen jeden Alters\, die körperlich aktiv sind\, erfreuen sich häufig eines besseren Wohlbefindens\, einer besseren Gesundheit und Stimmung. Aus diesem Grund möchten wir Ihnen die Möglichkeit bieten\, angeleitet vom erfahrenen Lehrer Volker Bänsch\, im Treff Aal Schoul Tai Chi zu praktizieren. \nAu cours de la propagation générale des arts martiaux asiatiques dans les pays occidentaux\, de plus en plus de gens s‘intéressent au Qi Gong et au Taiji (Tai Chi).\nLa plupart des gens pratiquent le Tai Chi pour des raisons de santé\, de relaxation ou de méditation. Partiellement motivé par les rapports sur les effets positifs sur la santé – en particulier les douleurs chroniques.\nLes personnes de tous âges qui sont physiquement actives\, jouissent souvent d‘un meilleur bien-être\, d‘une meilleure santé et d‘une meilleure humeur. C‘est pourquoi nous aimerions vous offrir la possibilité de pratiquer le Tai Chi dans le Treff Aal Schoul sous les instructions de Volker Bänsch\, professeur expérimenté. \nTag/Jour: Montag/Lundi\nTermine/Dates: 19.04.\, 26.04.\, 03.05.\, 10.05.\, 17.05.\, 31.05.\, 07.06.\, 14.06.\, 21.06.\, 28.06.\, 05.07.\, 12.07. \n(kein Kurs während den Schulferien/ pas de cours pendant les vacances scolaires)\nUhrzeit/Horaire: 10h30-11h30\nKurspreis/Prix du cours: 192€ \nBitte melden Sie sich per Telefon oder E-Mail im Treff an und überweisen Sie die Teilnahmegebühr auf unser Konto\, mit der Angabe der Veranstaltung.\nVeuillez-vous inscrire par téléphone ou e-mail et verser votre participation sur notre compte avec la mention de l’événement.\nTreff Aal Schoul LU67 0027 2101 6623 3600 BILLLULL \nTél.: 39 01 33 501 / E-mail: treff@habscht.lu \n
URL:https://clubhaiser.lu/fr/event/tai-chi-taiji-3/
LOCATION:Treff Aal Schoul\, 33A\, Grand-Rue\, Hobscheid\, L-8372
CATEGORIES:Santé,Sport,Treff aal Schoul
ATTACH;FMTTYPE=image/jpeg:https://clubhaiser.lu/wp-content/uploads/2021/03/Volker-Bänsch-Tai-Chi.jpg
ORGANIZER;CN="Treff%20Aal%20Schoul":MAILTO:treff@hobscheid.lu
GEO:49.687108;5.9132091
X-APPLE-STRUCTURED-LOCATION;VALUE=URI;X-ADDRESS=Treff Aal Schoul 33A Grand-Rue Hobscheid L-8372;X-APPLE-RADIUS=500;X-TITLE=33A\, Grand-Rue:geo:5.9132091,49.687108
END:VEVENT
END:VCALENDAR