BEGIN:VCALENDAR
VERSION:2.0
PRODID:-//Clubhaiser - ECPv5.1.5//NONSGML v1.0//EN
CALSCALE:GREGORIAN
METHOD:PUBLISH
X-WR-CALNAME:Clubhaiser
X-ORIGINAL-URL:https://clubhaiser.lu/fr/
X-WR-CALDESC:Évènements pour Clubhaiser
BEGIN:VTIMEZONE
TZID:Europe/Luxembourg
BEGIN:DAYLIGHT
TZOFFSETFROM:+0100
TZOFFSETTO:+0200
TZNAME:CEST
DTSTART:20210328T010000
END:DAYLIGHT
BEGIN:STANDARD
TZOFFSETFROM:+0200
TZOFFSETTO:+0100
TZNAME:CET
DTSTART:20211031T010000
END:STANDARD
END:VTIMEZONE
BEGIN:VEVENT
DTSTART;TZID=Europe/Luxembourg:20210420T090000
DTEND;TZID=Europe/Luxembourg:20210421T120000
DTSTAMP:20210426T010050
CREATED:20210120T153859Z
LAST-MODIFIED:20210120T154128Z
UID:7703-1618909200-1619006400@clubhaiser.lu
SUMMARY:Powerpoint Einführung - Gestalten Sire ansprechende Präsentationen!
DESCRIPTION:In diesem zweiteiligen Workshop erlernen Sie die Grundlagen von Powerpoint.\nFolgende Themen stehen auf dem Programm:\n– Erklärung der Symbolleisten\n– Folien gestalten mit Grafiken\, Bildern\, Texten…\n– Präsentation durch Farbe aufwerten\n– Präsentation animieren / Folienübergänge\n– Master-Folie erstellen \n
URL:https://clubhaiser.lu/fr/event/powerpoint-einfuehrung-gestalten-sire-ansprechende-praesentationen/
LOCATION:Alte Schule Hupperdange\, Hautpstrooss 38\, Hupperdange\, 9755\, Luxemburg
CATEGORIES:Education,Op der Heed
ORGANIZER;CN="Op%20der%20Heed":MAILTO:info@opderheed.lu
GEO:50.0966231;6.0582209
X-APPLE-STRUCTURED-LOCATION;VALUE=URI;X-ADDRESS=Alte Schule Hupperdange Hautpstrooss 38 Hupperdange 9755 Luxemburg;X-APPLE-RADIUS=500;X-TITLE=Hautpstrooss 38:geo:6.0582209,50.0966231
END:VEVENT
END:VCALENDAR