BEGIN:VCALENDAR
VERSION:2.0
PRODID:-//Clubhaiser - ECPv5.1.5//NONSGML v1.0//EN
CALSCALE:GREGORIAN
METHOD:PUBLISH
X-WR-CALNAME:Clubhaiser
X-ORIGINAL-URL:https://clubhaiser.lu/fr/
X-WR-CALDESC:Évènements pour Clubhaiser
BEGIN:VTIMEZONE
TZID:Europe/Luxembourg
BEGIN:DAYLIGHT
TZOFFSETFROM:+0100
TZOFFSETTO:+0200
TZNAME:CEST
DTSTART:20210328T010000
END:DAYLIGHT
BEGIN:STANDARD
TZOFFSETFROM:+0200
TZOFFSETTO:+0100
TZNAME:CET
DTSTART:20211031T010000
END:STANDARD
END:VTIMEZONE
BEGIN:VEVENT
DTSTART;TZID=Europe/Luxembourg:20210420T090000
DTEND;TZID=Europe/Luxembourg:20210511T120000
DTSTAMP:20210426T010251
CREATED:20210211T142344Z
LAST-MODIFIED:20210421T062728Z
UID:8083-1618909200-1620734400@clubhaiser.lu
SUMMARY:Poppenatelier mam Véronique Geimer
DESCRIPTION:Menschen werden glücklicher\, wenn sie Puppen und Märchenbücher bekommen” (Astrid Lindgren) \n  \nDer beste Teil meiner Arbeit sind die Puppenkurse\, in denen ich anderen Menschen ein Handwerk beibringe\, das mir sehr am Herzen liegt. \nSie dürfen eine wunderschöne Puppe herstellen zum Verschenken oder zum Selberliebhaben. \nIn diesem Kurs werden sie eine Anziehpuppe aus Stoff nähen (30 oder 40cm). Anfänger sind willkommen\, Nähkenntnisse werden im Kurs erworben. \n  \n« Les hommes deviennent plus heureux s’ils obtiennent des poupées et des livres de contes” (Astrid Lindgren) \n  \nLe meilleur part de mon travail sont les cours de poupées lors desquels j’apprends aux autres un artisanat qui me tient beaucoup à cœur. \nVous allez coudre une belle poupée en tissus de 30 à 40 cm pour offrir ou garder vous-même. Les débutantes sont les bienvenues. \n  \nDënschdes\, den 20.4.\,27.4.\, 4.5. an 11.5.2021 vun 09.00 – 12.00 \nPräis: 180€ fir 4 Couren\, mam Material \nMinimum 4 Leit fir dass de Cours ka stattfannen \n
URL:https://clubhaiser.lu/fr/event/poppenatelier-mam-veronique-geimer/2021-04-20/
LOCATION:Beim Kiosk\, 11-15\, rue CM Spoo\, Schifflange\, L-3876
CATEGORIES:Beim Kiosk,Créativité
ATTACH;FMTTYPE=image/jpeg:https://clubhaiser.lu/wp-content/uploads/2021/02/Foto-Poppenatelier-Véronique-Geimer-2.jpg
ORGANIZER;CN="Beim%20Kiosk":MAILTO:beimkiosk@clubhaus.lu
GEO:49.504797;6.0141918
X-APPLE-STRUCTURED-LOCATION;VALUE=URI;X-ADDRESS=Beim Kiosk 11-15 rue CM Spoo Schifflange L-3876;X-APPLE-RADIUS=500;X-TITLE=11-15\, rue CM Spoo:geo:6.0141918,49.504797
END:VEVENT
END:VCALENDAR