BEGIN:VCALENDAR
VERSION:2.0
PRODID:-//Clubhaiser - ECPv5.1.5//NONSGML v1.0//EN
CALSCALE:GREGORIAN
METHOD:PUBLISH
X-WR-CALNAME:Clubhaiser
X-ORIGINAL-URL:https://clubhaiser.lu/fr/
X-WR-CALDESC:Évènements pour Clubhaiser
BEGIN:VTIMEZONE
TZID:Europe/Luxembourg
BEGIN:DAYLIGHT
TZOFFSETFROM:+0100
TZOFFSETTO:+0200
TZNAME:CEST
DTSTART:20210328T010000
END:DAYLIGHT
BEGIN:STANDARD
TZOFFSETFROM:+0200
TZOFFSETTO:+0100
TZNAME:CET
DTSTART:20211031T010000
END:STANDARD
END:VTIMEZONE
BEGIN:VEVENT
DTSTART;TZID=Europe/Luxembourg:20210316T080000
DTEND;TZID=Europe/Luxembourg:20211231T170000
DTSTAMP:20210426T005316
CREATED:20210316T100119Z
LAST-MODIFIED:20210316T100119Z
UID:8946-1615881600-1640970000@clubhaiser.lu
SUMMARY:NEU im Clubhaus :  Individueller Gerätezirkel
DESCRIPTION:In Kooperation mit der Praxis für Physiotherapie Perspactive sarl präsentieren wir Ihnen unser neues Angebot : unseren Gerätezirkel. Dieser Gerätezirkel bietet Ihnen die Möglichkeit individuell und kontaktlos ihre körperliche Fitness zu trainieren. Unser Gerätezirkel ist so aufgebaut\, dass et verschiedene Trainingsreize simulieren kann: \n. langsame Bewegungen erzeugen sanften Widerstand \n. schnelle Bewegungen erzeugen grösseren Kraftaufwand \nDiese präzise Steuerung hilt Ihnen in Ihrem individuellen Training\, um Ihre Alltagsbewegungen zu verbessern. Auf Grund der unterschiedlichen Reize wird ein Muskelaufbau in verschiedenen Phasen ermöglicht. \n
URL:https://clubhaiser.lu/fr/event/neu-im-clubhaus-individueller-geraetezirkel/
LOCATION:An de Sauerwisen\, 6\, rue de la Fontaine\, Rümelingen\, L-3726
CATEGORIES:An de Sauerwiesen,Sport
ATTACH;FMTTYPE=image/jpeg:https://clubhaiser.lu/wp-content/uploads/2021/03/fitness-957115_640.jpg
ORGANIZER;CN="An%20de%20Sauerwisen":MAILTO:sauerwisen@pt.lu
GEO:49.461643;6.0296626
X-APPLE-STRUCTURED-LOCATION;VALUE=URI;X-ADDRESS=An de Sauerwisen 6 rue de la Fontaine Rümelingen L-3726;X-APPLE-RADIUS=500;X-TITLE=6\, rue de la Fontaine:geo:6.0296626,49.461643
END:VEVENT
END:VCALENDAR