BEGIN:VCALENDAR
VERSION:2.0
PRODID:-//Clubhaiser - ECPv5.1.5//NONSGML v1.0//EN
CALSCALE:GREGORIAN
METHOD:PUBLISH
X-WR-CALNAME:Clubhaiser
X-ORIGINAL-URL:https://clubhaiser.lu/fr/
X-WR-CALDESC:Évènements pour Clubhaiser
BEGIN:VTIMEZONE
TZID:Europe/Luxembourg
BEGIN:DAYLIGHT
TZOFFSETFROM:+0100
TZOFFSETTO:+0200
TZNAME:CEST
DTSTART:20210328T010000
END:DAYLIGHT
BEGIN:STANDARD
TZOFFSETFROM:+0200
TZOFFSETTO:+0100
TZNAME:CET
DTSTART:20211031T010000
END:STANDARD
END:VTIMEZONE
BEGIN:VEVENT
DTSTART;TZID=Europe/Luxembourg:20210420T190000
DTEND;TZID=Europe/Luxembourg:20210518T213000
DTSTAMP:20210426T010120
CREATED:20210120T151520Z
LAST-MODIFIED:20210120T151520Z
UID:7695-1618945200-1621373400@clubhaiser.lu
SUMMARY:Nähkurs - Änderungen an meinen Kleidern
DESCRIPTION:Lucia heißt Sie in Ihrem Nähatelier willkommen und bietet einen Workshop an\, in dem man die Nähmaschine kennenlernen und das Nähen Schritt für Schritt erlernt. Ob mit oder ohne Vorkenntnisse\, nach diesem Workshop ist jeder fähig zuhause selbstständig kleine Änderungen durchzuführen. Die eigene Nähmaschine kann gerne mitgebracht werden\, ansonsten stehen hier Nähmaschinen zur Verfügung. Schere\, Nähseide\, Stecknadeln und Stoff werden ebenfalls zur Verfügung gestellt.\nDie Änderungen werden an den eigenen mitgebrachten Kleidungsstücken vorgenommen. \n  \nNähmaschine wird vor Ort zur Verfügung gestellt. \n
URL:https://clubhaiser.lu/fr/event/naehkurs-aenderungen-an-meinen-kleidern/
LOCATION:Binsfeld\, Bechel 11\, Binsfeld\, Weiswampach\, 9946\, Luxemburg
CATEGORIES:Créativité,Op der Heed
ATTACH;FMTTYPE=image/jpeg:https://clubhaiser.lu/wp-content/uploads/2021/01/Nähkurs-1-scaled.jpg
ORGANIZER;CN="Op%20der%20Heed":MAILTO:info@opderheed.lu
GEO:50.1202994;6.0403107
X-APPLE-STRUCTURED-LOCATION;VALUE=URI;X-ADDRESS=Binsfeld Bechel 11 Binsfeld Weiswampach 9946 Luxemburg;X-APPLE-RADIUS=500;X-TITLE=Bechel 11:geo:6.0403107,50.1202994
END:VEVENT
END:VCALENDAR