BEGIN:VCALENDAR
VERSION:2.0
PRODID:-//Clubhaiser - ECPv5.1.5//NONSGML v1.0//EN
CALSCALE:GREGORIAN
METHOD:PUBLISH
X-WR-CALNAME:Clubhaiser
X-ORIGINAL-URL:https://clubhaiser.lu/fr/
X-WR-CALDESC:Évènements pour Clubhaiser
BEGIN:VTIMEZONE
TZID:Europe/Luxembourg
BEGIN:DAYLIGHT
TZOFFSETFROM:+0100
TZOFFSETTO:+0200
TZNAME:CEST
DTSTART:20210328T010000
END:DAYLIGHT
BEGIN:STANDARD
TZOFFSETFROM:+0200
TZOFFSETTO:+0100
TZNAME:CET
DTSTART:20211031T010000
END:STANDARD
END:VTIMEZONE
BEGIN:VEVENT
DTSTART;TZID=Europe/Luxembourg:20210407T080000
DTEND;TZID=Europe/Luxembourg:20210407T170000
DTSTAMP:20210426T043738
CREATED:20210316T093018Z
LAST-MODIFIED:20210316T093018Z
UID:8925-1617782400-1617814800@clubhaiser.lu
SUMMARY:Kachtreff to go
DESCRIPTION:
URL:https://clubhaiser.lu/fr/event/kachtreff-to-go/
LOCATION:An de Sauerwisen\, 6\, rue de la Fontaine\, Rümelingen\, L-3726
CATEGORIES:An de Sauerwiesen,Culinaire
ATTACH;FMTTYPE=image/jpeg:https://clubhaiser.lu/wp-content/uploads/2021/03/lasagne-1178514_640.jpg
ORGANIZER;CN="An%20de%20Sauerwisen":MAILTO:sauerwisen@pt.lu
GEO:49.461643;6.0296626
X-APPLE-STRUCTURED-LOCATION;VALUE=URI;X-ADDRESS=An de Sauerwisen 6 rue de la Fontaine Rümelingen L-3726;X-APPLE-RADIUS=500;X-TITLE=6\, rue de la Fontaine:geo:6.0296626,49.461643
END:VEVENT
END:VCALENDAR