BEGIN:VCALENDAR
VERSION:2.0
PRODID:-//Clubhaiser - ECPv5.1.5//NONSGML v1.0//EN
CALSCALE:GREGORIAN
METHOD:PUBLISH
X-WR-CALNAME:Clubhaiser
X-ORIGINAL-URL:https://clubhaiser.lu/fr/
X-WR-CALDESC:Évènements pour Clubhaiser
BEGIN:VTIMEZONE
TZID:Europe/Luxembourg
BEGIN:DAYLIGHT
TZOFFSETFROM:+0100
TZOFFSETTO:+0200
TZNAME:CEST
DTSTART:20210328T010000
END:DAYLIGHT
BEGIN:STANDARD
TZOFFSETFROM:+0200
TZOFFSETTO:+0100
TZNAME:CET
DTSTART:20211031T010000
END:STANDARD
END:VTIMEZONE
BEGIN:VEVENT
DTSTART;TZID=Europe/Luxembourg:20210330T090000
DTEND;TZID=Europe/Luxembourg:20210531T120000
DTSTAMP:20210426T010018
CREATED:20210120T140253Z
LAST-MODIFIED:20210120T140253Z
UID:7667-1617094800-1622462400@clubhaiser.lu
SUMMARY:Fotobuch am PC erstellen
DESCRIPTION:Der Kursleiter zeigt Ihnen Schritt für Schritt wie Sie später zuhause ein Fotobuch entwerfen und dieses dann bei CEWE bestellen können.\nMit dem Fotobuch-Anbieter CEWE\, der bekannt ist für seine hervorragende Qualität\, werden die digitalen Bilder einfach am Computer\nin das Fotobuch eingefügt.\nHier können Sie das Layout der Seiten gestalten\, die Fotos bearbeiten wie z.B. vergrößern\, drehen\, Deko-Elemente einfügen und vieles mehr. Natürlich kann man noch nach Belieben einen Text hinzufügen. Dabei sind Ihrer Fantasie fast keine Grenzen gesetzt. \n
URL:https://clubhaiser.lu/fr/event/fotobuch-am-pc-erstellen/
LOCATION:Centre Culturel Weiswampach\, Weiswampach\, 9990\, Luxemburg
CATEGORIES:Education,Op der Heed
ATTACH;FMTTYPE=image/jpeg:https://clubhaiser.lu/wp-content/uploads/2021/01/Fotobuch.jpg
ORGANIZER;CN="Op%20der%20Heed":MAILTO:info@opderheed.lu
GEO:50.1362378;6.0743869
END:VEVENT
END:VCALENDAR