BEGIN:VCALENDAR
VERSION:2.0
PRODID:-//Clubhaiser - ECPv5.1.5//NONSGML v1.0//EN
CALSCALE:GREGORIAN
METHOD:PUBLISH
X-WR-CALNAME:Clubhaiser
X-ORIGINAL-URL:https://clubhaiser.lu/fr/
X-WR-CALDESC:Évènements pour Clubhaiser
BEGIN:VTIMEZONE
TZID:Europe/Luxembourg
BEGIN:DAYLIGHT
TZOFFSETFROM:+0100
TZOFFSETTO:+0200
TZNAME:CEST
DTSTART:20210328T010000
END:DAYLIGHT
BEGIN:STANDARD
TZOFFSETFROM:+0200
TZOFFSETTO:+0100
TZNAME:CET
DTSTART:20211031T010000
END:STANDARD
END:VTIMEZONE
BEGIN:VEVENT
DTSTART;TZID=Europe/Luxembourg:20211013T084500
DTEND;TZID=Europe/Luxembourg:20211013T094500
DTSTAMP:20211011T143646
CREATED:20210728T112207Z
LAST-MODIFIED:20210730T082921Z
UID:10089-1634114700-1634118300@clubhaiser.lu
SUMMARY:Faszienpilates     mit Electra Chifari
DESCRIPTION:In diesem Kurs werden verschiedene Elemente aus Pilates\, Yoga\, Tanz und Faszien-Training kombiniert. \nNach einer dynamischen Aufwärmung werden systematisch Kraft\, Beweglichkeit und Gleichgewicht geschult\, mit dem Ziel Ihre Fitness zu steigern und Ihren Rücken zu stärken. \nElectra ist ausgebildete Sporttherapeutin und ehemalige Tänzerin. \nIhre langjährige Erfahrung in Yoga\, Pilates und Tanzen kommt in diesem Kurs zum Tragen. \nMit dem Ziel Sie auf dem Weg zu einem gestärkten Rücken und einer gesteigerten Fitness zu begleiten. \nMitzubringen sind: Gymnastikmatte\, Decke und Yoga-Blöcke\, wenn vorhanden \n  \nAnmeldung: per Telefon 30 00 01 oder Email  clubsenior@mamer.lu \nNach Erhalt der Anmeldungsbestätigung\, überweisen Sie bitte den Beitrag mit dem Vermerk der Aktivität auf das Konto  BGL Lu49 0030 3218 9179 0000 des Club Haus Am Brill \n
URL:https://clubhaiser.lu/fr/event/faszienpilates-mit-electra-chifari-2/2021-10-13/
LOCATION:Centre Culturel Capellen\, 51\, Rte d'Arlon\, Capellen\, 8310\, Luxemburg
CATEGORIES:Am Brill,Clubhouse,Santé,Sport
ATTACH;FMTTYPE=image/jpeg:https://clubhaiser.lu/wp-content/uploads/2021/03/Faszien-Pilates-Sommer-2020.jpg
ORGANIZER;CN="Am%20Brill":MAILTO:clubsenior@mamer.lu
GEO:49.6450705;5.9875855
X-APPLE-STRUCTURED-LOCATION;VALUE=URI;X-ADDRESS=Centre Culturel Capellen 51 Rte d'Arlon Capellen 8310 Luxemburg;X-APPLE-RADIUS=500;X-TITLE=51\, Rte d'Arlon:geo:5.9875855,49.6450705
END:VEVENT
END:VCALENDAR