BEGIN:VCALENDAR
VERSION:2.0
PRODID:-//Clubhaiser - ECPv5.1.5//NONSGML v1.0//EN
CALSCALE:GREGORIAN
METHOD:PUBLISH
X-WR-CALNAME:Clubhaiser
X-ORIGINAL-URL:https://clubhaiser.lu
X-WR-CALDESC:Veranstaltungen für Clubhaiser
BEGIN:VTIMEZONE
TZID:Europe/Luxembourg
BEGIN:DAYLIGHT
TZOFFSETFROM:+0100
TZOFFSETTO:+0200
TZNAME:CEST
DTSTART:20200329T010000
END:DAYLIGHT
BEGIN:STANDARD
TZOFFSETFROM:+0200
TZOFFSETTO:+0100
TZNAME:CET
DTSTART:20201025T010000
END:STANDARD
END:VTIMEZONE
BEGIN:VEVENT
DTSTART;TZID=Europe/Luxembourg:20200928T143000
DTEND;TZID=Europe/Luxembourg:20201221T160000
DTSTAMP:20200815T100541
CREATED:20200805T120304Z
LAST-MODIFIED:20200812T102553Z
UID:2042-1601303400-1608566400@clubhaiser.lu
SUMMARY:Yoga
DESCRIPTION:Yoga hat eine sehr lange Tradition in Indien als eine der sechs klassischen Schulen der Philosophie. Denn im Yoga geht es nicht nur um Bewegung: durch die Prinzipien der körperlichen Ausrichtung und energetischer Bewegungen geht es darum\, einen ruhigen Geist und eine genauere Wahrnehmung unseres eigenen Körpers und unserer Umwelt zu entwickeln. Mit Unterstützung der diplomierten Yoga-Lehrerin Perla Ghidale erlernen Sie gemeinsam Yoga oder bilden Ihre bereits erlernten Fähigkeiten weiter aus. Wir empfehlen\, angenehme und lockere Kleidung zu tragen und eine Matte sowie eine dünne Decke mitzubringen. \nLe yoga est un des principaux piliers de la philosophie indienne et remonte à une ancienne tradition. Le yoga est bien plus qu’un exercice corporel : par ses mouvements et ses positions\, il nous mène vers un esprit calme et nous aide à développer une conscience plus précise par rapport à notre propre corps et à notre environnement. Avec Perla Ghidale\, professeure diplômée de yoga\, vous pourrez apprendre les bases de cette discipline passionnante\, ou bien approfondir votre pratique. Nous vous recommandons de vous vêtir de vêtements légers et confortables et d’amener un tapis de yoga et une couverture fine. \nTag/Jour: Montag/Lundi \nTermine/Dates: 21.09./28.09./05.10./12.10./19.10./26.10./09.11./16.11./23.11./30.11./07.12./14.12. (kein Kurs während den Schulferien/pas de cours pendant les vacances scolaires) \nUhrzeit/Horaire: 14h30-16h00 \nPreis/Prix: 144€\, 12x Drop-in: 15€ \nBitte melden Sie sich per Telefon oder E-Mail im Treff an und überweisen Sie die Teilnahmegebühr auf das Konto „Treff Aal Schoul LU67 0027 2101 6623 3600 BILLLULL“ mit der Angabe der Veranstaltung. \nVeuillez-vous inscrire par téléphone ou email et verser votre participation sur le compte « Treff Aal Schoul LU67 0027 2101 6623 3600 BILLLULL » avec la mention de l’événement. \n  \n  \n
URL:https://clubhaiser.lu/event/yoga/2020-09-28/
LOCATION:Treff Aal Schoul\, 33A\, Grand-Rue\, Hobscheid\, L-8372
CATEGORIES:Santé,Treff aal Schoul
ATTACH;FMTTYPE=image/jpeg:https://clubhaiser.lu/wp-content/uploads/2020/08/yoga-group-concept-young-couple-260nw-552259924-1.jpg
ORGANIZER;CN="Treff%20Aal%20Schoul":MAILTO:treff@hobscheid.lu
GEO:49.687108;5.9132091
X-APPLE-STRUCTURED-LOCATION;VALUE=URI;X-ADDRESS=Treff Aal Schoul 33A Grand-Rue Hobscheid L-8372;X-APPLE-RADIUS=500;X-TITLE=33A\, Grand-Rue:geo:5.9132091,49.687108
END:VEVENT
END:VCALENDAR