BEGIN:VCALENDAR
VERSION:2.0
PRODID:-//Clubhaiser - ECPv5.1.5//NONSGML v1.0//EN
CALSCALE:GREGORIAN
METHOD:PUBLISH
X-WR-CALNAME:Clubhaiser
X-ORIGINAL-URL:https://clubhaiser.lu
X-WR-CALDESC:Veranstaltungen für Clubhaiser
BEGIN:VTIMEZONE
TZID:Europe/Luxembourg
BEGIN:DAYLIGHT
TZOFFSETFROM:+0100
TZOFFSETTO:+0200
TZNAME:CEST
DTSTART:20210328T010000
END:DAYLIGHT
BEGIN:STANDARD
TZOFFSETFROM:+0200
TZOFFSETTO:+0100
TZNAME:CET
DTSTART:20211031T010000
END:STANDARD
END:VTIMEZONE
BEGIN:VEVENT
DTSTART;TZID=Europe/Luxembourg:20210602T140000
DTEND;TZID=Europe/Luxembourg:20211229T160000
DTSTAMP:20211008T015250
CREATED:20210519T143630Z
LAST-MODIFIED:20210519T143630Z
UID:9561-1622642400-1640793600@clubhaiser.lu
SUMMARY:Wandern (12km)
DESCRIPTION:Unsere Wandergruppe trifft sich seit Jahren regelmäßig und wandert 10-12 Kilometer. Gerne können Sie sich der Gruppe anschließen. \n
URL:https://clubhaiser.lu/event/wandern-12km/
LOCATION:Op der Heed\, 2\, Kaesfurterstrooss\, Hupperdange\, L-9755
CATEGORIES:Op der Heed,Sport
ATTACH;FMTTYPE=image/jpeg:https://clubhaiser.lu/wp-content/uploads/2021/05/Wandern-scaled.jpg
ORGANIZER;CN="Op%20der%20Heed":MAILTO:info@opderheed.lu
GEO:50.0941295;6.0595296
X-APPLE-STRUCTURED-LOCATION;VALUE=URI;X-ADDRESS=Op der Heed 2 Kaesfurterstrooss Hupperdange L-9755;X-APPLE-RADIUS=500;X-TITLE=2\, Kaesfurterstrooss:geo:6.0595296,50.0941295
END:VEVENT
END:VCALENDAR