BEGIN:VCALENDAR
VERSION:2.0
PRODID:-//Clubhaiser - ECPv5.1.5//NONSGML v1.0//EN
CALSCALE:GREGORIAN
METHOD:PUBLISH
X-WR-CALNAME:Clubhaiser
X-ORIGINAL-URL:https://clubhaiser.lu
X-WR-CALDESC:Veranstaltungen für Clubhaiser
BEGIN:VTIMEZONE
TZID:Europe/Luxembourg
BEGIN:DAYLIGHT
TZOFFSETFROM:+0100
TZOFFSETTO:+0200
TZNAME:CEST
DTSTART:20210328T010000
END:DAYLIGHT
BEGIN:STANDARD
TZOFFSETFROM:+0200
TZOFFSETTO:+0100
TZNAME:CET
DTSTART:20211031T010000
END:STANDARD
END:VTIMEZONE
BEGIN:VEVENT
DTSTART;TZID=Europe/Luxembourg:20211015T130000
DTEND;TZID=Europe/Luxembourg:20211015T170000
DTSTAMP:20211010T163856
CREATED:20210728T120019Z
LAST-MODIFIED:20210730T092240Z
UID:10184-1634302800-1634317200@clubhaiser.lu
SUMMARY:Tapisserie d'Ameublement          avec Joel Leyder
DESCRIPTION:Joel Leyder est un tapissier indépendant depuis plus de 30 ans et a donné des cours depuis le début. Comment transformer une vieille chaise ou un petit fauteuil en un nouveau meuble\, qu’il soit classique ou plutôt moderne\, extravagant ou plutôt rural\, Joel Leyder vous mettra sur la bonne voie. \nLa formation consiste en : \n– préparation des carcasses en vue du garnissage \n(dégarnissage\, reconsolidation boiserie\, patine\,…) \n– initiation au garnissage à l’ancienne \n(sanglage\, pose des ressorts\, mise en crin et finition) \n– pose du tissu et finition (passe-poil\, clou doré\, galon) \nL’outillage nécessaire: \nChaise ou fauteuil – petit marteau – paire de tenaille – tournevis pointu – maillet \nL’outillage spécifique au garnissage sera présenté au premier cours \n(marteau aimanté\, pied-de-biche\, tire-sangle\, etc….) avec possibilité de prêt ou d’achat du matériel. \nLangue: Français \nInscription: au téléphone 30 00 01 ou par mail clubsenior@mamer.lu \nAprès avoir reçu la confirmation de votre inscription\, veuillez verser votre participation sur le compte BGL Lu49 0030 3218 9179 0000 du Club Haus am Brill\, avec la mention de l’activité \n
URL:https://clubhaiser.lu/event/tapisserie-dameublement-avec-joel-leyder-3/2021-10-15/
LOCATION:Am Brill\, 51\, Route d’Arlon\, Capellen\, L-8310\, Luxemburg
CATEGORIES:Am Brill,Art et métier,Clubhouse
ATTACH;FMTTYPE=image/jpeg:https://clubhaiser.lu/wp-content/uploads/2021/07/Tapicerie-scaled.jpg
ORGANIZER;CN="Am%20Brill":MAILTO:clubsenior@mamer.lu
GEO:49.6450705;5.9875855
X-APPLE-STRUCTURED-LOCATION;VALUE=URI;X-ADDRESS=Am Brill 51 Route d’Arlon Capellen L-8310 Luxemburg;X-APPLE-RADIUS=500;X-TITLE=51\, Route d’Arlon:geo:5.9875855,49.6450705
END:VEVENT
END:VCALENDAR