BEGIN:VCALENDAR
VERSION:2.0
PRODID:-//Clubhaiser - ECPv5.1.5//NONSGML v1.0//EN
CALSCALE:GREGORIAN
METHOD:PUBLISH
X-WR-CALNAME:Clubhaiser
X-ORIGINAL-URL:https://clubhaiser.lu
X-WR-CALDESC:Veranstaltungen für Clubhaiser
BEGIN:VTIMEZONE
TZID:Europe/Luxembourg
BEGIN:DAYLIGHT
TZOFFSETFROM:+0100
TZOFFSETTO:+0200
TZNAME:CEST
DTSTART:20210328T010000
END:DAYLIGHT
BEGIN:STANDARD
TZOFFSETFROM:+0200
TZOFFSETTO:+0100
TZNAME:CET
DTSTART:20211031T010000
END:STANDARD
END:VTIMEZONE
BEGIN:VEVENT
DTSTART;TZID=Europe/Luxembourg:20210920T103000
DTEND;TZID=Europe/Luxembourg:20211213T113000
DTSTAMP:20211008T091734
CREATED:20210812T090159Z
LAST-MODIFIED:20210812T090159Z
UID:11597-1632133800-1639395000@clubhaiser.lu
SUMMARY:Tai Chi
DESCRIPTION:Eng fernëstlech Kampfkonscht\, ideal fir ze entspanen an ze meditéieren. \nUn art martial asiatique\, idéal pour se détendre et méditer. \nmam/avec Volker Bänsch \nKee Cours den/ pas de cours le 15.11. \nPas de cours pendant les vacances scolaires. \n
URL:https://clubhaiser.lu/event/tai-chi/
LOCATION:Treff Aal Schoul\, 33A\, Grand-Rue\, Hobscheid\, L-8372
CATEGORIES:Santé,Sport,Treff aal Schoul
ATTACH;FMTTYPE=image/jpeg:https://clubhaiser.lu/wp-content/uploads/2021/06/Volker-Bänsch-Tai-Chi.jpg
ORGANIZER;CN="Treff%20Aal%20Schoul":MAILTO:treff@hobscheid.lu
GEO:49.687108;5.9132091
X-APPLE-STRUCTURED-LOCATION;VALUE=URI;X-ADDRESS=Treff Aal Schoul 33A Grand-Rue Hobscheid L-8372;X-APPLE-RADIUS=500;X-TITLE=33A\, Grand-Rue:geo:5.9132091,49.687108
END:VEVENT
END:VCALENDAR