BEGIN:VCALENDAR
VERSION:2.0
PRODID:-//Clubhaiser - ECPv5.1.5//NONSGML v1.0//EN
CALSCALE:GREGORIAN
METHOD:PUBLISH
X-WR-CALNAME:Clubhaiser
X-ORIGINAL-URL:https://clubhaiser.lu
X-WR-CALDESC:Veranstaltungen für Clubhaiser
BEGIN:VTIMEZONE
TZID:Europe/Luxembourg
BEGIN:DAYLIGHT
TZOFFSETFROM:+0100
TZOFFSETTO:+0200
TZNAME:CEST
DTSTART:20200329T010000
END:DAYLIGHT
BEGIN:STANDARD
TZOFFSETFROM:+0200
TZOFFSETTO:+0100
TZNAME:CET
DTSTART:20201025T010000
END:STANDARD
END:VTIMEZONE
BEGIN:VEVENT
DTSTART;TZID=Europe/Luxembourg:20200921T100000
DTEND;TZID=Europe/Luxembourg:20201214T110000
DTSTAMP:20200813T125844
CREATED:20200806T084632Z
LAST-MODIFIED:20200812T202901Z
UID:2056-1600682400-1607943600@clubhaiser.lu
SUMMARY:Tai Chi (Taiji)
DESCRIPTION:Im Zuge der allgemeinen Verbreitung im Westen interessieren sich auch immer mehr Menschen für Qi Gong und Taiji (Tai Chi)\, wobei individuell unterschiedliches Gewicht auf die verschiedenen Aspekte der Kampfkunst gelegt wird. Die meisten praktizieren es überwiegend aus gesund­heitlichen Gründen\, zur Entspannung oder zur Meditation. Menschen jeden Alters\, die körperlich aktiv sind\, erfreuen sich häufig eines besseren Wohlbefindens\, einer besseren Gesundheit und Stimmung. Aus diesem Grund möchten wir Ihnen die Möglichkeit bieten\, angeleitet vom erfahrenen Lehrer Volker Bänsch\, im Treff Aal Schoul Tai Chi zu praktizieren. \nTag/Jour: Montag/Lundi \nTermine/Dates: 21.09./5.10./12.10./19.10./ 26.10./9.11./23.11./30.11./7.12./14.12. (kein Kurs während den Schulferien/pas de cours pendant les vacances scolaires) \nUhrzeit/Horaire: 10h00-11h00 \nPreis /Prix: 160€\, 10x   Drop-in: 18€ \nBitte melden Sie sich per Telefon oder E-Mail im Treff an und überweisen Sie die Teilnahmegebühr auf das Konto „Treff Aal Schoul LU67 0027 2101 6623 3600 BILLLULL“ mit der Angabe der Veranstaltung. \nVeuillez-vous inscrire par téléphone ou email et verser votre participation sur le compte « Treff Aal Schoul LU67 0027 2101 6623 3600 BILLLULL » avec la mention de l’événement \n
URL:https://clubhaiser.lu/event/tai-chi-taiji/
LOCATION:Treff Aal Schoul\, 33A\, Grand-Rue\, Hobscheid\, 8372\, Luxembourg
CATEGORIES:Santé,Treff aal Schoul
ATTACH;FMTTYPE=image/jpeg:https://clubhaiser.lu/wp-content/uploads/2020/08/Volker-Bänsch-Tai-Chi.jpg
ORGANIZER;CN="Treff%20Aal%20Schoul":MAILTO:treff@hobscheid.lu
END:VEVENT
END:VCALENDAR