BEGIN:VCALENDAR
VERSION:2.0
PRODID:-//Clubhaiser - ECPv5.1.5//NONSGML v1.0//EN
CALSCALE:GREGORIAN
METHOD:PUBLISH
X-WR-CALNAME:Clubhaiser
X-ORIGINAL-URL:https://clubhaiser.lu
X-WR-CALDESC:Veranstaltungen für Clubhaiser
BEGIN:VTIMEZONE
TZID:Europe/Luxembourg
BEGIN:DAYLIGHT
TZOFFSETFROM:+0100
TZOFFSETTO:+0200
TZNAME:CEST
DTSTART:20210328T010000
END:DAYLIGHT
BEGIN:STANDARD
TZOFFSETFROM:+0200
TZOFFSETTO:+0100
TZNAME:CET
DTSTART:20211031T010000
END:STANDARD
END:VTIMEZONE
BEGIN:VEVENT
DTSTART;TZID=Europe/Luxembourg:20210428T101500
DTEND;TZID=Europe/Luxembourg:20210714T111500
DTSTAMP:20210425T092735
CREATED:20201130T140825Z
LAST-MODIFIED:20201130T140825Z
UID:8771-1619604900-1626261300@clubhaiser.lu
SUMMARY:Rücken Vini Yoga     mit Electra Chifari
DESCRIPTION:In diesem Kurs ist die Wirbelsäule zentrales Thema. \nMit dem Ziel in einen Zustand von Schmerzfreiheit und Wohlbefinden zu gelangen\, werden alle Übungen sehr schonend ausgeführt. \nDer Schulung der Atmung zur Stressreduzierung schenken wir ebenfalls unsere Aufmerksamkeit\, denn eine der Hauptursachen von Rückenbeschwerden ist Stress. \nElectra Chifari ist diplomierte Sportwissenschaftlerin mit Schwerpunkt Sporttherapie. Zusätzlich hat sie eine zweijährige Ausbildung als ärztlich geprüfte Physioflowyogalehrerin (nach der Ashtanga und Vinyasa Tradition) abgeschlossen. \nMitzubringen sind: Gymnastikmatte\, Decke und Yoga-Blöcke\, wenn vorhanden \n  \nTag: Mittwoch (kein Kurs während der Schulferien) \nDatum: 21.04. – 07.07.2021 \nUhrzeit: 10h15 – 11h15 \nPreis: 100€ für 10x \nSprache: Deutsch/Lëtzebuergesch \nOrt: Club Haus Am Brill\, 51\, Rte d’Arlon  L-8310 Capellen \nAnmeldung: per Telefon 30 00 01 oder Email  clubsenior@mamer.lu \nNach Erhalt der Anmeldungsbestätigung\, überweisen Sie bitte den Beitrag mit dem Vermerk der Aktivität auf das Konto  BGL Lu49 0030 3218 9179 0000 des Club Haus Am Brill \n
URL:https://clubhaiser.lu/event/ruecken-vini-yoga/2021-04-28/
LOCATION:Centre Culturel Capellen\, 51\, Rte d'Arlon\, Capellen\, 8310\, Luxemburg
CATEGORIES:Am Brill,Clubhouse,Santé,Sport
ATTACH;FMTTYPE=image/jpeg:https://clubhaiser.lu/wp-content/uploads/2020/11/Rücken-Vini-Yoga-Sommer-2020-e1606834240153.jpg
ORGANIZER;CN="Am%20Brill":MAILTO:clubsenior@mamer.lu
GEO:49.6450705;5.9875855
X-APPLE-STRUCTURED-LOCATION;VALUE=URI;X-ADDRESS=Centre Culturel Capellen 51 Rte d'Arlon Capellen 8310 Luxemburg;X-APPLE-RADIUS=500;X-TITLE=51\, Rte d'Arlon:geo:5.9875855,49.6450705
END:VEVENT
END:VCALENDAR