BEGIN:VCALENDAR
VERSION:2.0
PRODID:-//Clubhaiser - ECPv5.1.5//NONSGML v1.0//EN
CALSCALE:GREGORIAN
METHOD:PUBLISH
X-WR-CALNAME:Clubhaiser
X-ORIGINAL-URL:https://clubhaiser.lu
X-WR-CALDESC:Veranstaltungen für Clubhaiser
BEGIN:VTIMEZONE
TZID:Europe/Luxembourg
BEGIN:DAYLIGHT
TZOFFSETFROM:+0100
TZOFFSETTO:+0200
TZNAME:CEST
DTSTART:20210328T010000
END:DAYLIGHT
BEGIN:STANDARD
TZOFFSETFROM:+0200
TZOFFSETTO:+0100
TZNAME:CET
DTSTART:20211031T010000
END:STANDARD
END:VTIMEZONE
BEGIN:VEVENT
DTSTART;TZID=Europe/Luxembourg:20211005T103000
DTEND;TZID=Europe/Luxembourg:20211005T143000
DTSTAMP:20211009T055624
CREATED:20201201T135636Z
LAST-MODIFIED:20210730T091634Z
UID:10672-1633429800-1633444200@clubhaiser.lu
SUMMARY:Réflexologie plantaire          avec Lucie Charles
DESCRIPTION:La réflexologie plantaire définit les pieds comme la carte du corps. Par stimulation des zones réflexes sur les pieds\, les toxines du corps sont évacuées. Cette technique a pour effet; de soulager certaines douleurs (nuque\, dos\, migraine\, scia-tique.)\, de réduire l’irritabilité\, l’anxiété\, d’aider au rééquilibrage du système émotionnel\, de faire « sauter » les blocages générés par le stress\, d’apporter bien-être et détente. \nÀ apporter : une grande serviette et un masque \nRendez-vous aux dates indiquées entre 10h30 et 14:30; veuillez prendre rendez-vous. \nInscription:  au téléphone 30 00 01 ou par mail  clubsenior@mamer.lu \nAprès votre inscription\, veuillez verser votre participation sur le compte BGL Lu49 0030 3218 9179 0000 du Club Haus am Brill\, avec la mention de l’activité. \n  \n  \n  \n
URL:https://clubhaiser.lu/event/reflexologie-plantaire-avec-lucie-charles/2021-10-05/
LOCATION:Am Brill\, 51\, Route d’Arlon\, Capellen\, L-8310\, Luxemburg
CATEGORIES:Am Brill,Clubhouse,Santé
ATTACH;FMTTYPE=image/jpeg:https://clubhaiser.lu/wp-content/uploads/2020/11/Reflexologie-Winter-2020.jpg
ORGANIZER;CN="Am%20Brill":MAILTO:clubsenior@mamer.lu
GEO:49.6450705;5.9875855
X-APPLE-STRUCTURED-LOCATION;VALUE=URI;X-ADDRESS=Am Brill 51 Route d’Arlon Capellen L-8310 Luxemburg;X-APPLE-RADIUS=500;X-TITLE=51\, Route d’Arlon:geo:5.9875855,49.6450705
END:VEVENT
END:VCALENDAR