BEGIN:VCALENDAR
VERSION:2.0
PRODID:-//Clubhaiser - ECPv5.1.5//NONSGML v1.0//EN
CALSCALE:GREGORIAN
METHOD:PUBLISH
X-WR-CALNAME:Clubhaiser
X-ORIGINAL-URL:https://clubhaiser.lu
X-WR-CALDESC:Veranstaltungen für Clubhaiser
BEGIN:VTIMEZONE
TZID:Europe/Luxembourg
BEGIN:DAYLIGHT
TZOFFSETFROM:+0100
TZOFFSETTO:+0200
TZNAME:CEST
DTSTART:20210328T010000
END:DAYLIGHT
BEGIN:STANDARD
TZOFFSETFROM:+0200
TZOFFSETTO:+0100
TZNAME:CET
DTSTART:20211031T010000
END:STANDARD
END:VTIMEZONE
BEGIN:VEVENT
DTSTART;TZID=Europe/Luxembourg:20211012T105000
DTEND;TZID=Europe/Luxembourg:20211012T115000
DTSTAMP:20211011T143018
CREATED:20201126T152937Z
LAST-MODIFIED:20201126T152937Z
UID:10345-1634035800-1634039400@clubhaiser.lu
SUMMARY:Qi Gong            avec Anne Zachary
DESCRIPTION:L’énergie de la tête aux pieds ! \nLe Qi Gong s’est développé en Chine il y a des millénaires grâce à la relation intime de l’homme avec la nature. \nIl a pour but de maintenir le corps en équilibre et apporte une bonne santé physique et un bon mental. \nLe Qi Gong permet de trouver un état de sérénité dans lequel le corps et l’esprit se réajustent et trouvent leur harmonie originelle avec l’univers. \nC’est cette tradition passionnante que nous vous proposons de découvrir ensemble grâce à un programme qui renforce et nourrit l’Energie du corps\, au rythme des saisons. \n  \nAnne ZACHARY Professeur de QI GONG Traditionnel diplômée \nFormée à l’ITEQG-  Institut Traditionnel d’Enseignement du Qi Gong -Paris /Bruxelles et \nLES TEMPS DU CORPS – Centre de Culture chinoise à Paris \nFormations auprès de médecins spécialisés en QI GONG \nLangue: Français \nInscription:  au téléphone 30 00 01 ou par mail  clubsenior@mamer.lu \nAprès avoir reçu la confirmation de votre inscription\, veuillez verser votre participation sur le compte BGL Lu49 0030 3218 9179 0000 du Club Haus am Brill\, avec la mention de l’activité \n
URL:https://clubhaiser.lu/event/qi-gong-avec-anne-zachary/2021-10-12/
LOCATION:Centre Culturel Capellen\, 51\, Rte d'Arlon\, Capellen\, 8310\, Luxemburg
CATEGORIES:Am Brill,Clubhouse,Santé
ATTACH;FMTTYPE=image/jpeg:https://clubhaiser.lu/wp-content/uploads/2020/11/Qi-Gong-1-scaled.jpg
ORGANIZER;CN="Am%20Brill":MAILTO:clubsenior@mamer.lu
GEO:49.6450705;5.9875855
X-APPLE-STRUCTURED-LOCATION;VALUE=URI;X-ADDRESS=Centre Culturel Capellen 51 Rte d'Arlon Capellen 8310 Luxemburg;X-APPLE-RADIUS=500;X-TITLE=51\, Rte d'Arlon:geo:5.9875855,49.6450705
END:VEVENT
END:VCALENDAR