BEGIN:VCALENDAR
VERSION:2.0
PRODID:-//Clubhaiser - ECPv5.1.5//NONSGML v1.0//EN
CALSCALE:GREGORIAN
METHOD:PUBLISH
X-WR-CALNAME:Clubhaiser
X-ORIGINAL-URL:https://clubhaiser.lu
X-WR-CALDESC:Veranstaltungen für Clubhaiser
BEGIN:VTIMEZONE
TZID:Europe/Luxembourg
BEGIN:DAYLIGHT
TZOFFSETFROM:+0100
TZOFFSETTO:+0200
TZNAME:CEST
DTSTART:20210328T010000
END:DAYLIGHT
BEGIN:STANDARD
TZOFFSETFROM:+0200
TZOFFSETTO:+0100
TZNAME:CET
DTSTART:20211031T010000
END:STANDARD
BEGIN:DAYLIGHT
TZOFFSETFROM:+0100
TZOFFSETTO:+0200
TZNAME:CEST
DTSTART:20220327T010000
END:DAYLIGHT
BEGIN:STANDARD
TZOFFSETFROM:+0200
TZOFFSETTO:+0100
TZNAME:CET
DTSTART:20221030T010000
END:STANDARD
END:VTIMEZONE
BEGIN:VEVENT
DTSTART;TZID=Europe/Luxembourg:20210414T150000
DTEND;TZID=Europe/Luxembourg:20220309T170000
DTSTAMP:20210426T151726
CREATED:20210129T102245Z
LAST-MODIFIED:20210129T102245Z
UID:7780-1618412400-1646845200@clubhaiser.lu
SUMMARY:Handarbeschtstreff fir ee gudden Zweck
DESCRIPTION:Sie häkeln und stricken gerne und haben Freude am geselligen Zussammensein? Wir laden Sie herzlich zu unserem Handaarbechtstreff im Club Haus an den Sauerwisen ein. Bitte bringen Sie ihre eigenen Materialien mit. Die Amis de la communauté catholique de Bonnevoie asbl\, um Pastor Fakelstein verteilt ihre selbstgemachten Sachen an hilfsbedürftige Menschen in Luxemburg. \n
URL:https://clubhaiser.lu/event/handarbeschtstreff-fir-ee-gudden-zweck/2021-04-14/
LOCATION:An de Sauerwisen\, 6\, rue de la Fontaine\, Rümelingen\, L-3726
CATEGORIES:An de Sauerwiesen,Social
ATTACH;FMTTYPE=image/jpeg:https://clubhaiser.lu/wp-content/uploads/2021/01/wool-480550_640.jpg
ORGANIZER;CN="An%20de%20Sauerwisen":MAILTO:sauerwisen@pt.lu
GEO:49.461643;6.0296626
X-APPLE-STRUCTURED-LOCATION;VALUE=URI;X-ADDRESS=An de Sauerwisen 6 rue de la Fontaine Rümelingen L-3726;X-APPLE-RADIUS=500;X-TITLE=6\, rue de la Fontaine:geo:6.0296626,49.461643
END:VEVENT
END:VCALENDAR