BEGIN:VCALENDAR
VERSION:2.0
PRODID:-//Clubhaiser - ECPv5.1.5//NONSGML v1.0//EN
CALSCALE:GREGORIAN
METHOD:PUBLISH
X-WR-CALNAME:Clubhaiser
X-ORIGINAL-URL:https://clubhaiser.lu
X-WR-CALDESC:Veranstaltungen für Clubhaiser
BEGIN:VTIMEZONE
TZID:Europe/Luxembourg
BEGIN:DAYLIGHT
TZOFFSETFROM:+0100
TZOFFSETTO:+0200
TZNAME:CEST
DTSTART:20210328T010000
END:DAYLIGHT
BEGIN:STANDARD
TZOFFSETFROM:+0200
TZOFFSETTO:+0100
TZNAME:CET
DTSTART:20211031T010000
END:STANDARD
END:VTIMEZONE
BEGIN:VEVENT
DTSTART;TZID=Europe/Luxembourg:20211014T103000
DTEND;TZID=Europe/Luxembourg:20211014T120000
DTSTAMP:20211010T163350
CREATED:20201125T144835Z
LAST-MODIFIED:20210730T081432Z
UID:9907-1634207400-1634212800@clubhaiser.lu
SUMMARY:English conversation         with Paul Pouwer
DESCRIPTION:Would you like to brush up on your English conversation? \nThen come to my class! We can talk about current affairs\, the latest movies\, holiday destinations\, your favourite food (including recipes!) your hobbies from A to Z\, or anything else under the sun you wish to chat about with your fellow students and myself. \nThe class started in September 2020. \nSee you there: looking forward to meeting you all! \n  \nSollten es die sanitären Maßnahmen nicht erlauben\, dass der Kurs im Präsenzunterricht stattfindet\, so wird er online angeboten werden. \nAnmeldung: per Telefon 30 00 01 oder Email  clubsenior@mamer.lu \nNach Erhalt der Anmeldungsbestätigung\, überweisen Sie bitte den Beitrag mit dem Vermerk der Aktivität auf das Konto  BGL Lu49 0030 3218 9179 0000 des Club Haus Am Brill \n
URL:https://clubhaiser.lu/event/english-conversation-with-paul-pouwer/2021-10-14/
LOCATION:Am Brill\, 51\, Route d’Arlon\, Capellen\, L-8310\, Luxemburg
CATEGORIES:Am Brill,Clubhouse,Langues
ATTACH;FMTTYPE=image/jpeg:https://clubhaiser.lu/wp-content/uploads/2020/11/Englisch-I-1.jpg
ORGANIZER;CN="Am%20Brill":MAILTO:clubsenior@mamer.lu
GEO:49.6450705;5.9875855
X-APPLE-STRUCTURED-LOCATION;VALUE=URI;X-ADDRESS=Am Brill 51 Route d’Arlon Capellen L-8310 Luxemburg;X-APPLE-RADIUS=500;X-TITLE=51\, Route d’Arlon:geo:5.9875855,49.6450705
END:VEVENT
END:VCALENDAR