BEGIN:VCALENDAR
VERSION:2.0
PRODID:-//Clubhaiser - ECPv5.1.5//NONSGML v1.0//EN
CALSCALE:GREGORIAN
METHOD:PUBLISH
X-WR-CALNAME:Clubhaiser
X-ORIGINAL-URL:https://clubhaiser.lu
X-WR-CALDESC:Veranstaltungen für Clubhaiser
BEGIN:VTIMEZONE
TZID:Europe/Luxembourg
BEGIN:DAYLIGHT
TZOFFSETFROM:+0100
TZOFFSETTO:+0200
TZNAME:CEST
DTSTART:20200329T010000
END:DAYLIGHT
BEGIN:STANDARD
TZOFFSETFROM:+0200
TZOFFSETTO:+0100
TZNAME:CET
DTSTART:20201025T010000
END:STANDARD
END:VTIMEZONE
BEGIN:VEVENT
DTSTART;TZID=Europe/Luxembourg:20200917T183000
DTEND;TZID=Europe/Luxembourg:20200917T203000
DTSTAMP:20210426T011124
CREATED:20200813T122910Z
LAST-MODIFIED:20201214T122134Z
UID:2686-1600367400-1600374600@clubhaiser.lu
SUMMARY:Enchantez-vous! Ateliers de chant créatif avec Valérie Schiel
DESCRIPTION:Venez chanter en toute liberté! \nImprovisations\, jeux vocaux\, travail sur le corps et le souffle et technique vocale. \nNous aborderons également des chants du monde a cappella. \n  \n5 ateliers de 2 heures pour découvrir le chant autrement. \n  \nAucune expérience n’est nécessaire pour participer à ces ateliers. Ils s’adressent à toute personne souhaitant explorer sa voix et se relier aux autres par le son. \n  \nCette activité reprendra seulement si les consignes sanitaires du gouvernement l’autorisent. \nVeuillez svp vous informer auprès de nous avant le début du cours ! \n  \n  \nJeudi \nDate:            17.9+1.10+22.10+12.11+26.11+10.12.2020 \nHoraire:        18h30-20h30 \nPrix:             156€ pour 6x \nLieu:             Club Haus am Brill \n  \n  \nInscription au téléphone 30 00 01 ou par E-Mail clubsenior@mamer.lu \nAprès votre inscription\, veuillez verser votre participation sur le compte BGL LU49 0030 3218 9179 0000 Club Haus Am Brill avec la mention de l’activité \n  \n
URL:https://clubhaiser.lu/event/enchantez-vous-ateliers-de-chant-creatif-avec-valerie-schiel/2020-09-17/
LOCATION:Am Brill\, 51\, Route d’Arlon\, Capellen\, L-8310\, Luxemburg
CATEGORIES:Am Brill,Clubhouse,Créativité
ATTACH;FMTTYPE=image/jpeg:https://clubhaiser.lu/wp-content/uploads/2020/08/Enchantez-vous-Sommer-2020.jpg
ORGANIZER;CN="Am%20Brill":MAILTO:clubsenior@mamer.lu
GEO:49.6450705;5.9875855
X-APPLE-STRUCTURED-LOCATION;VALUE=URI;X-ADDRESS=Am Brill 51 Route d’Arlon Capellen L-8310 Luxemburg;X-APPLE-RADIUS=500;X-TITLE=51\, Route d’Arlon:geo:5.9875855,49.6450705
END:VEVENT
END:VCALENDAR