BEGIN:VCALENDAR
VERSION:2.0
PRODID:-//Clubhaiser - ECPv5.1.5//NONSGML v1.0//EN
CALSCALE:GREGORIAN
METHOD:PUBLISH
X-WR-CALNAME:Clubhaiser
X-ORIGINAL-URL:https://clubhaiser.lu
X-WR-CALDESC:Veranstaltungen für Clubhaiser
BEGIN:VTIMEZONE
TZID:Europe/Luxembourg
BEGIN:DAYLIGHT
TZOFFSETFROM:+0100
TZOFFSETTO:+0200
TZNAME:CEST
DTSTART:20210328T010000
END:DAYLIGHT
BEGIN:STANDARD
TZOFFSETFROM:+0200
TZOFFSETTO:+0100
TZNAME:CET
DTSTART:20211031T010000
END:STANDARD
END:VTIMEZONE
BEGIN:VEVENT
DTSTART;TZID=Europe/Luxembourg:20210408T140000
DTEND;TZID=Europe/Luxembourg:20210408T180000
DTSTAMP:20210426T043826
CREATED:20201124T141412Z
LAST-MODIFIED:20210319T085541Z
UID:4209-1617890400-1617904800@clubhaiser.lu
SUMMARY:Duerch Bësch a Gewan - Marscherwald mam Viviane
DESCRIPTION:Well den Interessi esou grouss war\, bidde mir nach eng Kéier eisen Tour mam Viviane duerch de Marscherwald un. \nDe “Marscherwald” ass ee vun de gréisste Bëscher zu Lëtzebuerg. Wann och net esou symbolträchteg wéi de “Gréngewald”\, stellt en e gréisstendeels intakten Ensembel duer. Während engem Spadséiergank duerch de Marscherwald kënne mir eis vun dem besonnesche Charme vun dëser Kulturlandschaft iwwerzeegen. \nNodeems et zu Kuebebuer fortgaangen ass\, komme mir bei de Ripsmuer. Vun do geet et weider bei d’Sonnenauer\, déi 1926 vun zwee Awunner aus Kuebebuer gemeesselt ginn ass. Zum Schluss féiert eisen Tour eis laascht den Afferstack\, eng kleng Verdéiwung vir op engem Fiels erënnert un en Afferstack an der Kierch. \nDistanz: 6.50 Km\nZäit: +/- 02:30 h\nSchwieregkeetsgrad: Licht Weeër. Kee besonnesch Kënnen erfuerderlech. \nFest Schong a Wanderbengelen erliichteren eis Wanderen! \n
URL:https://clubhaiser.lu/event/duerch-besch-a-gewan-marscherwald-mam-viviane/2021-04-08/
LOCATION:Am Becheler\, 15a am Becheler\, Bereldange\, L-7213
CATEGORIES:Am Becheler,Excursion
ATTACH;FMTTYPE=image/jpeg:https://clubhaiser.lu/wp-content/uploads/2020/11/Marscherwald.jpg
ORGANIZER;CN="Am%20Becheler":MAILTO:becheler@50-plus.lu
GEO:49.654689;6.1258779
X-APPLE-STRUCTURED-LOCATION;VALUE=URI;X-ADDRESS=Am Becheler 15a am Becheler Bereldange L-7213;X-APPLE-RADIUS=500;X-TITLE=15a am Becheler:geo:6.1258779,49.654689
END:VEVENT
END:VCALENDAR