BEGIN:VCALENDAR
VERSION:2.0
PRODID:-//Clubhaiser - ECPv5.1.5//NONSGML v1.0//EN
CALSCALE:GREGORIAN
METHOD:PUBLISH
X-WR-CALNAME:Clubhaiser
X-ORIGINAL-URL:https://clubhaiser.lu
X-WR-CALDESC:Veranstaltungen für Clubhaiser
BEGIN:VTIMEZONE
TZID:Europe/Luxembourg
BEGIN:DAYLIGHT
TZOFFSETFROM:+0100
TZOFFSETTO:+0200
TZNAME:CEST
DTSTART:20210328T010000
END:DAYLIGHT
BEGIN:STANDARD
TZOFFSETFROM:+0200
TZOFFSETTO:+0100
TZNAME:CET
DTSTART:20211031T010000
END:STANDARD
END:VTIMEZONE
BEGIN:VEVENT
DTSTART;TZID=Europe/Luxembourg:20211005T093000
DTEND;TZID=Europe/Luxembourg:20211005T120000
DTSTAMP:20211009T055047
CREATED:20210312T090144Z
LAST-MODIFIED:20210312T090144Z
UID:10215-1633426200-1633435200@clubhaiser.lu
SUMMARY:Cours de céramique II                avec Silvia Alcina
DESCRIPTION:Silvia est une artiste formée auprès de différents céramistes de renom\, diplômée en”pédagogie de la céramique” par l’École de Céramique de La Bisbal à Gérone. \nElle a enseigné la céramique dans son propre atelier/école à Barcelone. \nEn 2016 s’installe au Luxembourg\, où elle continue à enseigner et à travailler l’art de la céramique. Vous travaillerez sur les différentes techniques de modelage pour réaliser vos pièces décoratives mais aussi des pièces utilitaires. \nConvient aussi bien aux débutants qu’aux avancés. \nLes cours se dérouleront en langue française. \nInscription :  par téléphone : 30 00 01 ou par mail : clubsenior@mamer.lu \nAprès avoir reçu la confirmation de votre inscription\, veuillez verser votre participation sur le compte BGL Lu49 0030 3218 9179 0000 du Club Haus am Brill\, avec la mention de l’activité \n
URL:https://clubhaiser.lu/event/cours-de-ceramique-pour-debutants-avec-silvia-alcina/2021-10-05/
LOCATION:Am Brill\, 51\, Route d’Arlon\, Capellen\, L-8310\, Luxemburg
CATEGORIES:Am Brill,Art,Clubhouse,Créativité
ATTACH;FMTTYPE=image/jpeg:https://clubhaiser.lu/wp-content/uploads/2021/03/Céramique-DEBUTANTS-Fréijoer2021-scaled.jpg
ORGANIZER;CN="Am%20Brill":MAILTO:clubsenior@mamer.lu
GEO:49.6450705;5.9875855
X-APPLE-STRUCTURED-LOCATION;VALUE=URI;X-ADDRESS=Am Brill 51 Route d’Arlon Capellen L-8310 Luxemburg;X-APPLE-RADIUS=500;X-TITLE=51\, Route d’Arlon:geo:5.9875855,49.6450705
END:VEVENT
END:VCALENDAR