BEGIN:VCALENDAR
VERSION:2.0
PRODID:-//Clubhaiser - ECPv5.1.5//NONSGML v1.0//EN
CALSCALE:GREGORIAN
METHOD:PUBLISH
X-WR-CALNAME:Clubhaiser
X-ORIGINAL-URL:https://clubhaiser.lu
X-WR-CALDESC:Veranstaltungen für Clubhaiser
BEGIN:VTIMEZONE
TZID:Europe/Luxembourg
BEGIN:DAYLIGHT
TZOFFSETFROM:+0100
TZOFFSETTO:+0200
TZNAME:CEST
DTSTART:20210328T010000
END:DAYLIGHT
BEGIN:STANDARD
TZOFFSETFROM:+0200
TZOFFSETTO:+0100
TZNAME:CET
DTSTART:20211031T010000
END:STANDARD
END:VTIMEZONE
BEGIN:VEVENT
DTSTART;TZID=Europe/Luxembourg:20210920T090000
DTEND;TZID=Europe/Luxembourg:20211217T120000
DTSTAMP:20211008T091647
CREATED:20210818T092817Z
LAST-MODIFIED:20210818T093008Z
UID:11898-1632128400-1639742400@clubhaiser.lu
SUMMARY:Computersprechstunde
DESCRIPTION:Mir hëllefen Iech einfach Probleemer mam Computer oder mat Ärem Handy ze léisen. \nNous vous aidons à résoudre des problèmes simples\, soit informatiques\, soit avec votre téléphone portable. \nmam/avec Eva + Sarah \nKontaktéiert eis gären fir e Rdv/ Merci de nous contacter pour fixer un rdv. \n
URL:https://clubhaiser.lu/event/computersprechstunde/
LOCATION:Treff Aal Schoul\, 33A\, Grand-Rue\, Hobscheid\, L-8372
CATEGORIES:Culture générale,Treff aal Schoul
ATTACH;FMTTYPE=image/jpeg:https://clubhaiser.lu/wp-content/uploads/2021/08/home-office-1867759__340-1.jpg
ORGANIZER;CN="Treff%20Aal%20Schoul":MAILTO:treff@hobscheid.lu
GEO:49.687108;5.9132091
X-APPLE-STRUCTURED-LOCATION;VALUE=URI;X-ADDRESS=Treff Aal Schoul 33A Grand-Rue Hobscheid L-8372;X-APPLE-RADIUS=500;X-TITLE=33A\, Grand-Rue:geo:5.9132091,49.687108
END:VEVENT
END:VCALENDAR