BEGIN:VCALENDAR
VERSION:2.0
PRODID:-//Clubhaiser - ECPv5.1.5//NONSGML v1.0//EN
CALSCALE:GREGORIAN
METHOD:PUBLISH
X-WR-CALNAME:Clubhaiser
X-ORIGINAL-URL:https://clubhaiser.lu
X-WR-CALDESC:Veranstaltungen für Clubhaiser
BEGIN:VTIMEZONE
TZID:Europe/Luxembourg
BEGIN:DAYLIGHT
TZOFFSETFROM:+0100
TZOFFSETTO:+0200
TZNAME:CEST
DTSTART:20200329T010000
END:DAYLIGHT
BEGIN:STANDARD
TZOFFSETFROM:+0200
TZOFFSETTO:+0100
TZNAME:CET
DTSTART:20201025T010000
END:STANDARD
END:VTIMEZONE
BEGIN:VEVENT
DTSTART;TZID=Europe/Luxembourg:20201023T100000
DTEND;TZID=Europe/Luxembourg:20201023T120000
DTSTAMP:20210426T043626
CREATED:20200818T071849Z
LAST-MODIFIED:20201214T121511Z
UID:3138-1603447200-1603454400@clubhaiser.lu
SUMMARY:Bonnets 1.0 – introduction au tricot en rond  (Débutants)   avec Laure Faber
DESCRIPTION:Quelques techniques et trucs pour vous mettre à tricoter\, en rond\, sur des aiguilles circulaires. Un bonnet sera le parfait projet pour apprendre et vous lancer. \n  \nCette activité reprendra seulement si les consignes sanitaires du gouvernement l’autorisent. \nVeuillez svp vous informer auprès de nous avant le début du cours ! \n  \nVendredi  \nDate:  23.10 + 30.10.2020 \nHoraire: 10h00-12h00 \nPrix:  58€ + matériel \nLieu:  Club Haus am Brill \n
URL:https://clubhaiser.lu/event/bonnets-1-0-introduction-au-tricot-en-rond-debutants-avec-laure-faber/2020-10-23/
LOCATION:Am Brill\, 51\, Route d’Arlon\, Capellen\, L-8310\, Luxemburg
CATEGORIES:Am Brill
ATTACH;FMTTYPE=image/jpeg:https://clubhaiser.lu/wp-content/uploads/2020/08/Tricots-bonnets-Herbst-2020.jpg
ORGANIZER;CN="Am%20Brill":MAILTO:clubsenior@mamer.lu
GEO:49.6450705;5.9875855
X-APPLE-STRUCTURED-LOCATION;VALUE=URI;X-ADDRESS=Am Brill 51 Route d’Arlon Capellen L-8310 Luxemburg;X-APPLE-RADIUS=500;X-TITLE=51\, Route d’Arlon:geo:5.9875855,49.6450705
END:VEVENT
END:VCALENDAR