BEGIN:VCALENDAR
VERSION:2.0
PRODID:-//Clubhaiser - ECPv5.1.5//NONSGML v1.0//EN
CALSCALE:GREGORIAN
METHOD:PUBLISH
X-WR-CALNAME:Clubhaiser
X-ORIGINAL-URL:https://clubhaiser.lu
X-WR-CALDESC:Veranstaltungen für Clubhaiser
BEGIN:VTIMEZONE
TZID:Europe/Luxembourg
BEGIN:DAYLIGHT
TZOFFSETFROM:+0100
TZOFFSETTO:+0200
TZNAME:CEST
DTSTART:20210328T010000
END:DAYLIGHT
BEGIN:STANDARD
TZOFFSETFROM:+0200
TZOFFSETTO:+0100
TZNAME:CET
DTSTART:20211031T010000
END:STANDARD
BEGIN:DAYLIGHT
TZOFFSETFROM:+0100
TZOFFSETTO:+0200
TZNAME:CEST
DTSTART:20220327T010000
END:DAYLIGHT
BEGIN:STANDARD
TZOFFSETFROM:+0200
TZOFFSETTO:+0100
TZNAME:CET
DTSTART:20221030T010000
END:STANDARD
END:VTIMEZONE
BEGIN:VEVENT
DTSTART;VALUE=DATE:20210920
DTEND;VALUE=DATE:20220716
DTSTAMP:20211006T134418
CREATED:20210729T132543Z
LAST-MODIFIED:20210730T095946Z
UID:10807-1632096000-1657929599@clubhaiser.lu
SUMMARY:Bénévolat-Hausaufgabenhëllef
DESCRIPTION:Intergenerationelle Projet tëscht der  \nMaison Relais Capellen an dem Club Haus Am Brill \nDir wëllt Iech sozial engagéieren\, hutt minimum eng Stonn d‘Woch Zäit\, hutt gär de Kontakt mat engem Kand a kënnt mat Freed dat schoulescht Wëssen aus der Grondschoul eriwwerbréngen? Da kann dëse Projet eng wäertvoll Aktivitéit fir Iech an eis jonk Matbierger sinn. \nD’Kanner aus der Maison Relais verbréngen hiren Dag an engem méi oder manner grousse Grupp; dat ass fir vill Aktivitéite ganz flott\, mee dëst gëllt net onbedéngt fir d’Hausaufgaben. Muench Kanner kréien sech do net gutt konzentréiert\, anerer brauchen nach e puer Erklärungen… \nFir de Besoinë vun deene Kanner entgéint ze kommen\, siche mir kannerfrëndlech a gedëlleg Leit\, déi eemol d‘Woch\, oder och gär méi oft\, Zäit a Loscht hunn\, am individuelle Setting\, engem Kand bei de Schoulaufgaben zur Säit ze stoen. \nFir weider Informatioune kënnt Dir Iech gär am Club Haus Am Brill mellen um Telefon 30 00 01 oder per Mail: clubsenior@mamer.lu \n
URL:https://clubhaiser.lu/event/benevolat-hausaufgabenhellef/2021-09-20/
LOCATION:Am Brill\, 51\, Route d’Arlon\, Capellen\, L-8310\, Luxemburg
CATEGORIES:Am Brill,Clubhouse,Education,Social
ATTACH;FMTTYPE=image/jpeg:https://clubhaiser.lu/wp-content/uploads/2021/07/Hausaufgabenhëllef.jpg
ORGANIZER;CN="Am%20Brill":MAILTO:clubsenior@mamer.lu
GEO:49.6450705;5.9875855
X-APPLE-STRUCTURED-LOCATION;VALUE=URI;X-ADDRESS=Am Brill 51 Route d’Arlon Capellen L-8310 Luxemburg;X-APPLE-RADIUS=500;X-TITLE=51\, Route d’Arlon:geo:5.9875855,49.6450705
END:VEVENT
END:VCALENDAR