BEGIN:VCALENDAR
VERSION:2.0
PRODID:-//Clubhaiser - ECPv5.1.5//NONSGML v1.0//EN
CALSCALE:GREGORIAN
METHOD:PUBLISH
X-WR-CALNAME:Clubhaiser
X-ORIGINAL-URL:https://clubhaiser.lu
X-WR-CALDESC:Veranstaltungen für Clubhaiser
BEGIN:VTIMEZONE
TZID:Europe/Luxembourg
BEGIN:DAYLIGHT
TZOFFSETFROM:+0100
TZOFFSETTO:+0200
TZNAME:CEST
DTSTART:20200329T010000
END:DAYLIGHT
BEGIN:STANDARD
TZOFFSETFROM:+0200
TZOFFSETTO:+0100
TZNAME:CET
DTSTART:20201025T010000
END:STANDARD
END:VTIMEZONE
BEGIN:VEVENT
DTSTART;TZID=Europe/Luxembourg:20201023T094500
DTEND;TZID=Europe/Luxembourg:20201023T140000
DTSTAMP:20210721T185427
CREATED:20200825T124722Z
LAST-MODIFIED:20200825T124722Z
UID:3751-1603446300-1603461600@clubhaiser.lu
SUMMARY:A table comme à la maison - L’atelier gourmand de Jacques Boulanger
DESCRIPTION:Pourquoi je fais les cours de cuisine\, très bonne question me direz-vous. \nEn réalité\, je fais ces cours parce que je suis un passionné de cuisine salée ou sucrée\, cela fait maintenant 48 ans que je suis dans ce domaine\, et je ne cesse d’être gourmand. \nLorsque j’ai remis mes restaurants il était important pour moi de transmettre ce savoir afin que les personnes qui suivent ces cours puissent faire de bons plats très gouteux. \nC’est cela qui me guide\, c’est ma philosophie\, venez et vous comprendrez… \nLes préparations seront accompagnées d’un vin que je commenterai\, petite explication sur les vins. \nLa plonge devra être effectuée par les participants \n  \nCette activité reprendra seulement si les consignes sanitaires du gouvernement l’autorisent. Veuillez svp vous informer auprès de nous avant le début du cours ! \n  \nCours du 23.10.2020 à 69€ \nJavanais de foie gras \nSaint-Pierre à la purée de courgette \nCoupe Pistache \n  \nVendredi \nDates:  23.10.2020 \nHoraire:   9h45 \nLieu:  Centre Culturel Capellen \n  \nInscription au téléphone 30 00 01 ou par E-Mail clubsenior@mamer.lu \nAprès votre inscription\, veuillez verser votre participation sur le compte BGL LU49 0030 3218 9179 0000 Club Haus Am Brill avec la mention de l’activité \n  \n
URL:https://clubhaiser.lu/event/a-table-comme-a-la-maison-latelier-gourmand-de-jacques-boulanger/
LOCATION:Centre Culturel Capellen\, 51\, Rte d'Arlon\, Capellen\, 8310\, Luxemburg
CATEGORIES:Am Brill,Clubhouse,Culinaire
ATTACH;FMTTYPE=image/jpeg:https://clubhaiser.lu/wp-content/uploads/2020/08/A-table-Winter-2020.jpg
ORGANIZER;CN="Am%20Brill":MAILTO:clubsenior@mamer.lu
GEO:49.6450705;5.9875855
X-APPLE-STRUCTURED-LOCATION;VALUE=URI;X-ADDRESS=Centre Culturel Capellen 51 Rte d'Arlon Capellen 8310 Luxemburg;X-APPLE-RADIUS=500;X-TITLE=51\, Rte d'Arlon:geo:5.9875855,49.6450705
END:VEVENT
END:VCALENDAR